BEGIN:VCALENDAR
VERSION:2.0
PRODID:-//ChamberMaster//Event Calendar 2.0//EN
METHOD:PUBLISH
X-PUBLISHED-TTL:P1H
REFRESH-INTERVAL:P1H
CALSCALE:GREGORIAN
BEGIN:VTIMEZONE
TZID:America/New_York
BEGIN:DAYLIGHT
RRULE:FREQ=YEARLY;BYMONTH=3;BYDAY=2SU
DTSTART:20070101T000000
TZOFFSETFROM:-0500
TZOFFSETTO:-0400
TZNAME:Eastern Daylight Time
END:DAYLIGHT
BEGIN:STANDARD
RRULE:FREQ=YEARLY;BYMONTH=11;BYDAY=1SU
DTSTART:20070101T000000
TZOFFSETFROM:-0400
TZOFFSETTO:-0500
TZNAME:Eastern Standard Time
END:STANDARD
END:VTIMEZONE
BEGIN:VEVENT
DTSTART;TZID=America/New_York:20250918T160000
DTEND;TZID=America/New_York:20250918T180000
X-MICROSOFT-CDO-ALLDAYEVENT:FALSE
SUMMARY:Aspire North Affiliate Appreciation Party
DESCRIPTION:Celebrate Our Affiliate Members with Us!Join us on Thursday\, September 18th\, at the Aspire North office for a fun\, block-party-style celebration honoring our incredible Affiliate Members an essential part of our REALTOR  community!Enjoy delicious food\, drinks\, and great company as we come together to show our appreciation for the businesses and professionals who help make our association thrive. It's the perfect opportunity to connect\, network\, and celebrate the partnerships that support everything we do.
X-ALT-DESC;FMTTYPE=text/html:<!DOCTYPE html><html><head><title></title></head><body aria-disabled="false"><h3>Celebrate Our Affiliate Members with Us!</h3><p>Join us on <strong fr-original-style="" style="font-weight: 700\;">Thursday\, September 18th\, at the Aspire North office</strong> for a fun\, block-party-style celebration honoring our incredible Affiliate Members&mdash\;an essential part of our REALTOR&reg\; community!</p><p>Enjoy delicious <strong fr-original-style="" style="font-weight: 700\;">food\, drinks\, and great company</strong> as we come together to show our appreciation for the businesses and professionals who help make our association thrive. It&rsquo\;s the perfect opportunity to connect\, network\, and celebrate the partnerships that support everything we do.</p></body></html>
LOCATION:852 S Garfield Ave Traverse City MI 49686
UID:e.2406.1263392
SEQUENCE:3
DTSTAMP:20260421T100103Z
URL:https://members.aspirenorthrealtors.com/eventcalendar/Details/aspire-north-affiliate-appreciation-party-1479014?sourceTypeId=Hub
END:VEVENT
END:VCALENDAR
